BEGIN:VCALENDAR
VERSION:2.0
PRODID:-//Tastes &amp; Sounds of Cathedral City - ECPv6.10.3//NONSGML v1.0//EN
CALSCALE:GREGORIAN
METHOD:PUBLISH
X-ORIGINAL-URL:https://tastesandsounds.discovercathedralcity.com
X-WR-CALDESC:Events for Tastes &amp; Sounds of Cathedral City
REFRESH-INTERVAL;VALUE=DURATION:PT1H
X-Robots-Tag:noindex
X-PUBLISHED-TTL:PT1H
BEGIN:VTIMEZONE
TZID:America/Los_Angeles
BEGIN:DAYLIGHT
TZOFFSETFROM:-0800
TZOFFSETTO:-0700
TZNAME:PDT
DTSTART:20250309T100000
END:DAYLIGHT
BEGIN:STANDARD
TZOFFSETFROM:-0700
TZOFFSETTO:-0800
TZNAME:PST
DTSTART:20251102T090000
END:STANDARD
END:VTIMEZONE
BEGIN:VEVENT
DTSTART;TZID=America/Los_Angeles:20250401T173000
DTEND;TZID=America/Los_Angeles:20250401T193000
DTSTAMP:20260419T180400
CREATED:20250106T191851Z
LAST-MODIFIED:20250204T222729Z
UID:10000047-1743528600-1743535800@tastesandsounds.discovercathedralcity.com
SUMMARY:ABBAFAB
DESCRIPTION:Do you love the music of ABBA? then you do not want to miss this show!\nHaving played to sold-out crowds across the U.S. and abroad\, ABBAFAB is a stunning tribute to the music of ABBA featuring the sensational talents of some of TAD’s most talented and loved artists and musicians! This multimedia production is a tribute to some of the greatest music produced in the 70s and 80s including monster hits such as Waterloo\, Fernando\, Honey Honey\, Dancing Queen and countless others. From ABBA’s earliest hits to Mamma Mia\, ABBAFAB will take you on a technicolor journey that is unmatched. Our vocalists and musicians have toured the world as solo artists and band members and have come together to create the most entertaining ABBA tribute on the market today! \nABBA’s record breaking string of hits has stood the test of time and continues to thrill audiences of all ages. With vocals and musicianship that are second to none\, the ABBAFAB vibe is infectious! ABBA fans love it and new ABBA fans are created at every show. There’s no generation gap here\, so let’s ALL party like it’s 1979! \n \nFollow ABBAFAB:\nabbafab.com | facebook.com/AbbaFab | instagram.com/abbafab | \nFree Admission\, Food for Purchase \n\nFood provided by: \n\nTKB Food Truck \n\nE&E Pels Italian Ices \n \n\nIndulge in a weekly feast for the senses at\nImmerse yourself in a musical and culinary adventure like no other. \nJoin us in Downtown Cathedral City every week from\nFebruary 11 to April 8\, 2025\nand savor the flavors\, rhythms\, and talents of our vibrant community!
URL:https://tastesandsounds.discovercathedralcity.com/event/abbafab/
LOCATION:Cathedral City Community Amphitheater\, 68526 Avenida Lalo Guerrero\, Cathedral City\, CA\, 92234\, United States
ATTACH;FMTTYPE=image/jpeg:https://tastesandsounds.discovercathedralcity.com/wp-content/uploads/2025/01/TAS25-ABBAFAB-1.jpg
ORGANIZER;CN="City of Cathedral City":MAILTO:info@discovercathedralcity.com
END:VEVENT
BEGIN:VEVENT
DTSTART;TZID=America/Los_Angeles:20250408T173000
DTEND;TZID=America/Los_Angeles:20250408T193000
DTSTAMP:20260419T180400
CREATED:20250106T193709Z
LAST-MODIFIED:20250319T151911Z
UID:10000051-1744133400-1744140600@tastesandsounds.discovercathedralcity.com
SUMMARY:Leanna & The Free Agents
DESCRIPTION:Leanna Rodgers fronts the lively musical group Leanna & The Free Agents. Based in Palm Springs\, California\, award-nominated vocalist and entertainer Leanna joins forces with local conga sensation Miguel to deliver a diverse repertoire of jazz\, Latin\, bossa nova\, pop\, Broadway hits\, and soft rock. Leanna’s one-of-a-kind\, sultry\, and sassy vocals combined with Miguel’s subtle yet vibrant conga rhythms create an intoxicating musical experience. Having graced renowned venues like the Palm Springs Cultural Center and Pívat Cigar Lounge\, this duo continues to share their talents across the Greater Palm Springs area. \nFollow Leanna & Miguel:\nyoutube.com/@leannalive | instagram.com/leannaishere | reverbnation.com/leannaishere \n\n\n\n\n\n\n			\n							\n					\n	\n\n\n \n\nFree Admission\, Food for Purchase \n\nFood provided by: \n\nNick’s Bistro \n \n\nIndulge in a weekly feast for the senses at\nImmerse yourself in a musical and culinary adventure like no other. \nJoin us in Downtown Cathedral City every week from\nFebruary 11 to April 8\, 2025\nand savor the flavors\, rhythms\, and talents of our vibrant community!
URL:https://tastesandsounds.discovercathedralcity.com/event/leanna-the-free-agents/
LOCATION:Cathedral City Community Amphitheater\, 68526 Avenida Lalo Guerrero\, Cathedral City\, CA\, 92234\, United States
ATTACH;FMTTYPE=image/jpeg:https://tastesandsounds.discovercathedralcity.com/wp-content/uploads/2025/01/TAS25-LeannaMiguel-2.jpg
ORGANIZER;CN="City of Cathedral City":MAILTO:info@discovercathedralcity.com
END:VEVENT
BEGIN:VEVENT
DTSTART;TZID=America/Los_Angeles:20250415T173000
DTEND;TZID=America/Los_Angeles:20250415T193000
DTSTAMP:20260419T180400
CREATED:20250106T185558Z
LAST-MODIFIED:20250319T153104Z
UID:10000044-1744738200-1744745400@tastesandsounds.discovercathedralcity.com
SUMMARY:Giselle Woo & The Night Owls
DESCRIPTION:Rescheduled\n\nGiselle Woo & The Night Owls are a rock band hailing from the Coachella Valley in California. They describe their sound as “Chicano desert rock\,” blending elements of blues\, psychedelia\, and the spacey guitar riffs characteristic of desert rock. Fronted by Cathedral City native Giselle Woo\, who provides both English and Spanish in her raw yet melodic vocals\, the band incorporates her local roots into their music. The band’s lineup consists of Giselle Woo on vocals and rhythm guitar\, Christian Colin on lead guitar\, Marco Murietta on bass\, and José Ceja on drums. Formed in 2018\, Giselle Woo & The Night Owls have become a staple in the Greater Palm Springs music scene. They’ve performed at notable events such as the Joshua Tree Music Festival and Coachella\, gaining recognition for their single “Coachella Gold\,” released on an EP in 2019. \nFollow Giselle Woo and the Night Owls:\ngisellewooandthenightowls.com | instagram.com/gisellewooandthenightowls | facebook.com/gisellewooandthenightowls | youtube.com/@gisellewoothenightowls6959 \n\n\n\n\n\n\n\n\n\n \n\nFood provided by:\n\nFat Boy Tacos And Catering \n\n\n\n\n\n\n \n\n\nE&E Pels Italian Ices \n\n\n\n\n\n\n \n\n \neatnicehass.com \n\n\n\n\n\n\n\n\n \n\n \nIndulge in a weekly feast for the senses at\nImmerse yourself in a musical and culinary adventure like no other. \nJoin us in Downtown Cathedral City every week from\nFebruary 13 to April 9\, 2024\nand savor the flavors\, rhythms\, and talents of our vibrant community! \nCommunity Amphitheater
URL:https://tastesandsounds.discovercathedralcity.com/event/giselle-woo-the-night-owls/
LOCATION:Cathedral City Community Amphitheater\, 68526 Avenida Lalo Guerrero\, Cathedral City\, CA\, 92234\, United States
ATTACH;FMTTYPE=image/jpeg:https://tastesandsounds.discovercathedralcity.com/wp-content/uploads/2025/01/TAS25-JiselleWoo-1.jpg
ORGANIZER;CN="City of Cathedral City":MAILTO:info@discovercathedralcity.com
END:VEVENT
END:VCALENDAR