BEGIN:VCALENDAR
VERSION:2.0
PRODID:-//Tastes &amp; Sounds of Cathedral City - ECPv6.10.3//NONSGML v1.0//EN
CALSCALE:GREGORIAN
METHOD:PUBLISH
X-WR-CALNAME:Tastes &amp; Sounds of Cathedral City
X-ORIGINAL-URL:https://tastesandsounds.discovercathedralcity.com
X-WR-CALDESC:Events for Tastes &amp; Sounds of Cathedral City
REFRESH-INTERVAL;VALUE=DURATION:PT1H
X-Robots-Tag:noindex
X-PUBLISHED-TTL:PT1H
BEGIN:VTIMEZONE
TZID:America/Los_Angeles
BEGIN:DAYLIGHT
TZOFFSETFROM:-0800
TZOFFSETTO:-0700
TZNAME:PDT
DTSTART:20260308T100000
END:DAYLIGHT
BEGIN:STANDARD
TZOFFSETFROM:-0700
TZOFFSETTO:-0800
TZNAME:PST
DTSTART:20261101T090000
END:STANDARD
END:VTIMEZONE
BEGIN:VEVENT
DTSTART;TZID=America/Los_Angeles:20260331T170000
DTEND;TZID=America/Los_Angeles:20260331T193000
DTSTAMP:20260420T105612
CREATED:20260106T043804Z
LAST-MODIFIED:20260106T043804Z
UID:10000063-1774976400-1774985400@tastesandsounds.discovercathedralcity.com
SUMMARY:Tastes & Sounds of Cathedral City SPRING 2026
DESCRIPTION:This week’s Tastes & Sounds 2026 is GISELLE WOO. Gates open at 5pm. Lawn chairs and blankets are suggested. This event is BYOB. \n\n \n\nIndulge in a weekly feast for the senses at\nImmerse yourself in a musical and culinary adventure like no other. \nJoin us in Downtown Cathedral City for the SPRING 2026 Edition from\nFebruary 10 – April 7\, 2026\nand savor the flavors\, rhythms\, and talents of our vibrant community! \nCommunity Amphitheater
URL:https://tastesandsounds.discovercathedralcity.com/event/tastes-sounds-of-cathedral-city-spring-2026-7/
LOCATION:Cathedral City Community Amphitheater\, 68526 Avenida Lalo Guerrero\, Cathedral City\, CA\, 92234\, United States
ATTACH;FMTTYPE=image/jpeg:https://tastesandsounds.discovercathedralcity.com/wp-content/uploads/2026/01/TS-3.31.26.jpg
ORGANIZER;CN="City of Cathedral City":MAILTO:info@discovercathedralcity.com
END:VEVENT
BEGIN:VEVENT
DTSTART;TZID=America/Los_Angeles:20260317T170000
DTEND;TZID=America/Los_Angeles:20260317T193000
DTSTAMP:20260420T105612
CREATED:20260106T043711Z
LAST-MODIFIED:20260106T043711Z
UID:10000062-1773766800-1773775800@tastesandsounds.discovercathedralcity.com
SUMMARY:Tastes & Sounds of Cathedral City SPRING 2026
DESCRIPTION:This week’s Tastes & Sounds 2026 is OUTLAW MARIACHI with food provided by El Reaper Chicken. Gates open at 5pm. Lawn chairs and blankets are suggested. This event is BYOB. \n\n \n\nIndulge in a weekly feast for the senses at\nImmerse yourself in a musical and culinary adventure like no other. \nJoin us in Downtown Cathedral City for the SPRING 2026 Edition from\nFebruary 10 – April 7\, 2026\nand savor the flavors\, rhythms\, and talents of our vibrant community! \nCommunity Amphitheater
URL:https://tastesandsounds.discovercathedralcity.com/event/tastes-sounds-of-cathedral-city-spring-2026-6/
LOCATION:Cathedral City Community Amphitheater\, 68526 Avenida Lalo Guerrero\, Cathedral City\, CA\, 92234\, United States
ATTACH;FMTTYPE=image/jpeg:https://tastesandsounds.discovercathedralcity.com/wp-content/uploads/2026/01/TS-3.17.26.jpg
ORGANIZER;CN="City of Cathedral City":MAILTO:info@discovercathedralcity.com
END:VEVENT
BEGIN:VEVENT
DTSTART;TZID=America/Los_Angeles:20260310T170000
DTEND;TZID=America/Los_Angeles:20260310T193000
DTSTAMP:20260420T105612
CREATED:20260106T043142Z
LAST-MODIFIED:20260106T043609Z
UID:10000058-1773162000-1773171000@tastesandsounds.discovercathedralcity.com
SUMMARY:Tastes & Sounds of Cathedral City SPRING 2026
DESCRIPTION:This week’s Tastes & Sounds 2026 is LEANNA & THE FREE AGENTS with food provided by TKB. Gates open at 5pm. Lawn chairs and blankets are suggested. This event is BYOB.. \n\n \n\nIndulge in a weekly feast for the senses at\nImmerse yourself in a musical and culinary adventure like no other. \nJoin us in Downtown Cathedral City for the SPRING 2026 Edition from\nFebruary 10 – April 7\, 2026\nand savor the flavors\, rhythms\, and talents of our vibrant community! \nCommunity Amphitheater
URL:https://tastesandsounds.discovercathedralcity.com/event/tastes-sounds-of-cathedral-city-spring-2026-2/
LOCATION:Cathedral City Community Amphitheater\, 68526 Avenida Lalo Guerrero\, Cathedral City\, CA\, 92234\, United States
ATTACH;FMTTYPE=image/jpeg:https://tastesandsounds.discovercathedralcity.com/wp-content/uploads/2026/01/TS-3.10.26.jpg
ORGANIZER;CN="City of Cathedral City":MAILTO:info@discovercathedralcity.com
END:VEVENT
BEGIN:VEVENT
DTSTART;TZID=America/Los_Angeles:20260303T170000
DTEND;TZID=America/Los_Angeles:20260303T193000
DTSTAMP:20260420T105612
CREATED:20260106T043459Z
LAST-MODIFIED:20260106T043459Z
UID:10000061-1772557200-1772566200@tastesandsounds.discovercathedralcity.com
SUMMARY:Tastes & Sounds of Cathedral City SPRING 2026
DESCRIPTION:This week’s Tastes & Sounds 2026 is celebrating the kickoff of LGBT+ Days with CAT CITY DRAG RACE!  Food provided by Uncle D’s and Nice Haas. Gates open at 5pm. Lawn chairs and blankets are suggested. This event is BYOB. \n\n \n\nIndulge in a weekly feast for the senses at\nImmerse yourself in a musical and culinary adventure like no other. \nJoin us in Downtown Cathedral City for the SPRING 2026 Edition from\nFebruary 10 – April 7\, 2026\nand savor the flavors\, rhythms\, and talents of our vibrant community! \nCommunity Amphitheater
URL:https://tastesandsounds.discovercathedralcity.com/event/tastes-sounds-of-cathedral-city-spring-2026-5/
LOCATION:Cathedral City Community Amphitheater\, 68526 Avenida Lalo Guerrero\, Cathedral City\, CA\, 92234\, United States
ATTACH;FMTTYPE=image/jpeg:https://tastesandsounds.discovercathedralcity.com/wp-content/uploads/2026/01/TS-3.3.26.jpg
ORGANIZER;CN="City of Cathedral City":MAILTO:info@discovercathedralcity.com
END:VEVENT
BEGIN:VEVENT
DTSTART;TZID=America/Los_Angeles:20260224T170000
DTEND;TZID=America/Los_Angeles:20260224T193000
DTSTAMP:20260420T105612
CREATED:20260106T043351Z
LAST-MODIFIED:20260128T025658Z
UID:10000060-1771952400-1771961400@tastesandsounds.discovercathedralcity.com
SUMMARY:Tastes & Sounds of Cathedral City SPRING 2026
DESCRIPTION:This week’s Tastes & Sounds 2026 is THE DREAMBOATS with food provided by Smokey Dawgs. Gates open at 5pm. Lawn chairs and blankets are suggested. \nDive into a musical time machine with The Dreamboats as they bring back the magic of classic\, original rock ‘n’ roll! Infusing the timeless sounds of the 50s & 60s with a fresh\, contemporary energy\, this Canadian quartet promises an evening of non-stop dancing\, nostalgic melodies\, and electrifying entertainment. From the spirited rhythms of Chuck Berry to the infectious charm of The Wonders\, The Dreamboats offer a revival of the golden age of rock and roll that will have you falling in love with these classic tunes all over again. Experience the heartthrob appeal and electric energy reminiscent of icons like Elvis Presley\, Chuck Berry\, The Beatles\, Buddy Holly and more\, brought to life by these charismatic performers. Here are some highlights from Tastes & Sounds last year — \n \nThis event is BYOB. \n\n \n\nIndulge in a weekly feast for the senses at\nImmerse yourself in a musical and culinary adventure like no other. \nJoin us in Downtown Cathedral City for the SPRING 2026 Edition from\nFebruary 10 – April 7\, 2026\nand savor the flavors\, rhythms\, and talents of our vibrant community! \nCommunity Amphitheater
URL:https://tastesandsounds.discovercathedralcity.com/event/tastes-sounds-of-cathedral-city-spring-2026-4/
LOCATION:Cathedral City Community Amphitheater\, 68526 Avenida Lalo Guerrero\, Cathedral City\, CA\, 92234\, United States
ATTACH;FMTTYPE=image/jpeg:https://tastesandsounds.discovercathedralcity.com/wp-content/uploads/2026/01/TS-2.24.26.jpg
ORGANIZER;CN="City of Cathedral City":MAILTO:info@discovercathedralcity.com
END:VEVENT
BEGIN:VEVENT
DTSTART;TZID=America/Los_Angeles:20260217T170000
DTEND;TZID=America/Los_Angeles:20260217T193000
DTSTAMP:20260420T105612
CREATED:20260106T043248Z
LAST-MODIFIED:20260217T161114Z
UID:10000059-1771347600-1771356600@tastesandsounds.discovercathedralcity.com
SUMMARY:Tastes & Sounds of Cathedral City SPRING 2026
DESCRIPTION:⚠️ Tonight’s Tastes & Sounds has been postponed! \nDue to wet grounds at the amphitheater from yesterday’s rainstorm and chilly temperatures expected this evening\, tonight’s performance by the Rancho Mirage High School Band has been rescheduled to Tuesday\, April 14. \nWe want our students and food vendors to have the audience and the evening they deserve! 🎶 \nThe series continues next Tuesday\, Feb. 24\, with The Dreamboats! 🎸 \n📍 Cathedral City Community Amphitheater \n🕐 5-7:30 p.m. \n\n  \n\nIndulge in a weekly feast for the senses at\nImmerse yourself in a musical and culinary adventure like no other. \nJoin us in Downtown Cathedral City for the SPRING 2026 Edition from\nFebruary 10 – April 7\, 2026\nand savor the flavors\, rhythms\, and talents of our vibrant community! \nCommunity Amphitheater
URL:https://tastesandsounds.discovercathedralcity.com/event/tastes-sounds-of-cathedral-city-spring-2026-3/
LOCATION:Cathedral City Community Amphitheater\, 68526 Avenida Lalo Guerrero\, Cathedral City\, CA\, 92234\, United States
ATTACH;FMTTYPE=image/jpeg:https://tastesandsounds.discovercathedralcity.com/wp-content/uploads/2026/02/TS-2.17.26-Social-Tile.jpg
ORGANIZER;CN="City of Cathedral City":MAILTO:info@discovercathedralcity.com
END:VEVENT
BEGIN:VEVENT
DTSTART;TZID=America/Los_Angeles:20260210T170000
DTEND;TZID=America/Los_Angeles:20260210T193000
DTSTAMP:20260420T105612
CREATED:20260106T042550Z
LAST-MODIFIED:20260128T025514Z
UID:10000057-1770742800-1770751800@tastesandsounds.discovercathedralcity.com
SUMMARY:Tastes & Sounds of Cathedral City SPRING 2026
DESCRIPTION:The opener for Tastes & Sounds 2026 is RADIO READY with food provided by Fat Boy Taco and El Reaper Chicken. Gates open at 5pm. Lawn chairs and blankets are suggested. This event is BYOB. \nRadio Ready is a premier Southern California-based cover band featuring elite musicians from Los Angeles\, Orange County\, and Palm Springs. Known for high-energy performances\, they cover hits ranging from 1940s jazz standards to modern dance music. The band features top-tier vocalists\, including talent from American Idol and Disney. \n \n \n\n\nIndulge in a weekly feast for the senses at\nImmerse yourself in a musical and culinary adventure like no other. \nJoin us in Downtown Cathedral City for the SPRING 2026 Edition from\nFebruary 10 – April 7\, 2026\nand savor the flavors\, rhythms\, and talents of our vibrant community! \nCommunity Amphitheater
URL:https://tastesandsounds.discovercathedralcity.com/event/tastes-sounds-of-cathedral-city-spring-2026/
LOCATION:Cathedral City Community Amphitheater\, 68526 Avenida Lalo Guerrero\, Cathedral City\, CA\, 92234\, United States
ATTACH;FMTTYPE=image/jpeg:https://tastesandsounds.discovercathedralcity.com/wp-content/uploads/2026/01/TS-2.10.26.jpg
ORGANIZER;CN="City of Cathedral City":MAILTO:info@discovercathedralcity.com
END:VEVENT
END:VCALENDAR