BEGIN:VCALENDAR
VERSION:2.0
PRODID:-//Tastes &amp; Sounds of Cathedral City - ECPv6.10.3//NONSGML v1.0//EN
CALSCALE:GREGORIAN
METHOD:PUBLISH
X-WR-CALNAME:Tastes &amp; Sounds of Cathedral City
X-ORIGINAL-URL:https://tastesandsounds.discovercathedralcity.com
X-WR-CALDESC:Events for Tastes &amp; Sounds of Cathedral City
REFRESH-INTERVAL;VALUE=DURATION:PT1H
X-Robots-Tag:noindex
X-PUBLISHED-TTL:PT1H
BEGIN:VTIMEZONE
TZID:America/Los_Angeles
BEGIN:DAYLIGHT
TZOFFSETFROM:-0800
TZOFFSETTO:-0700
TZNAME:PDT
DTSTART:20260308T100000
END:DAYLIGHT
BEGIN:STANDARD
TZOFFSETFROM:-0700
TZOFFSETTO:-0800
TZNAME:PST
DTSTART:20261101T090000
END:STANDARD
END:VTIMEZONE
BEGIN:VEVENT
DTSTART;TZID=America/Los_Angeles:20260217T170000
DTEND;TZID=America/Los_Angeles:20260217T193000
DTSTAMP:20260420T122244
CREATED:20260106T043248Z
LAST-MODIFIED:20260217T161114Z
UID:1084-1771347600-1771356600@tastesandsounds.discovercathedralcity.com
SUMMARY:Tastes & Sounds of Cathedral City SPRING 2026
DESCRIPTION:⚠️ Tonight’s Tastes & Sounds has been postponed! \nDue to wet grounds at the amphitheater from yesterday’s rainstorm and chilly temperatures expected this evening\, tonight’s performance by the Rancho Mirage High School Band has been rescheduled to Tuesday\, April 14. \nWe want our students and food vendors to have the audience and the evening they deserve! 🎶 \nThe series continues next Tuesday\, Feb. 24\, with The Dreamboats! 🎸 \n📍 Cathedral City Community Amphitheater \n🕐 5-7:30 p.m. \n\n  \n\nIndulge in a weekly feast for the senses at\nImmerse yourself in a musical and culinary adventure like no other. \nJoin us in Downtown Cathedral City for the SPRING 2026 Edition from\nFebruary 10 – April 7\, 2026\nand savor the flavors\, rhythms\, and talents of our vibrant community! \nCommunity Amphitheater
URL:https://tastesandsounds.discovercathedralcity.com/event/tastes-sounds-of-cathedral-city-spring-2026-3/
LOCATION:Cathedral City Community Amphitheater\, 68526 Avenida Lalo Guerrero\, Cathedral City\, CA\, 92234\, United States
ATTACH;FMTTYPE=image/jpeg:https://tastesandsounds.discovercathedralcity.com/wp-content/uploads/2026/02/TS-2.17.26-Social-Tile.jpg
ORGANIZER;CN="City of Cathedral City":MAILTO:info@discovercathedralcity.com
END:VEVENT
END:VCALENDAR